BEGIN:VCALENDAR
PRODID:-//http://statistik.d-u-v.org//PHP ultracalendar//EN
VERSION:2.0
METHOD:PUBLISH
BEGIN:VEVENT
DTSTAMP:20260425T001711
CREATED:20090919T232455
UID:1777076231.0.31502400-4921@statistik.d-u-v.org
SUMMARY:50km Lauf im Stadtgut Steyr
DESCRIPTION: 50km Lauf im Stadtgut Steyr\n
  Peter Hos\n
  100km[at]laufwunder.at
DTSTART:20090919T000000
DTEND:00000000T235900
LOCATION:Steyr\, AUT
URL:http://www.100km.at/
CATEGORIES:Ultramarathon
CONTACT:Peter Hos
CLASS:PUBLIC
PRIORITY:5
TRANSP:OPAQUE
END:VEVENT
END:VCALENDAR
