BEGIN:VCALENDAR
PRODID:-//http://statistik.d-u-v.org//PHP ultracalendar//EN
VERSION:2.0
METHOD:PUBLISH
BEGIN:VEVENT
DTSTAMP:20260419T200554
CREATED:20180609T171419
UID:1776629154.0.25044000-49146@statistik.d-u-v.org
SUMMARY:Smuggler's 50 Miles
DESCRIPTION: Smuggler's 50 Miles\n
  \n
  
DTSTART:20010310T000000
DTEND:00000000T235900
LOCATION:Campo, CA\, USA
URL:
CATEGORIES:Ultramarathon
CONTACT:
CLASS:PUBLIC
PRIORITY:5
TRANSP:OPAQUE
END:VEVENT
END:VCALENDAR
