BEGIN:VCALENDAR
PRODID:-//http://statistik.d-u-v.org//PHP ultracalendar//EN
VERSION:2.0
METHOD:PUBLISH
BEGIN:VEVENT
DTSTAMP:20260419T182114
CREATED:20180606T111831
UID:1776622874.0.30087200-49059@statistik.d-u-v.org
SUMMARY:Sri Chinmoy 10 Day Race - 48h Split
DESCRIPTION: Sri Chinmoy 10 Day Race - 48h Split\n
  Sahishnu Szczesiul\n
  scmtny[at]earthlink.net
DTSTART:20180417T120000
DTEND:20180419T120000
LOCATION:New York, NY\, USA
URL:http://us.srichinmoyraces.org/events/6-10-day-race
CATEGORIES:Ultramarathon
CONTACT:Sahishnu Szczesiul
CLASS:PUBLIC
PRIORITY:5
TRANSP:OPAQUE
END:VEVENT
END:VCALENDAR
