BEGIN:VCALENDAR
PRODID:-//http://statistik.d-u-v.org//PHP ultracalendar//EN
VERSION:2.0
METHOD:PUBLISH
BEGIN:VEVENT
DTSTAMP:20260419T200616
CREATED:20180601T182347
UID:1776629176.0.34591800-49010@statistik.d-u-v.org
SUMMARY:Ultra-Trail Australia 100 Km
DESCRIPTION: Ultra-Trail Australia 100 Km\n
  Tom Landon-Smith\n
  tom[at]arocsport.com.au
DTSTART:20190518T062000
DTEND:20190519T115400
LOCATION:Katoomba, NSW\, AUS
URL:http://www.ultratrailaustralia.com.au/
CATEGORIES:Ultramarathon
CONTACT:Tom Landon-Smith
CLASS:PUBLIC
PRIORITY:5
TRANSP:OPAQUE
END:VEVENT
END:VCALENDAR
