BEGIN:VCALENDAR
PRODID:-//http://statistik.d-u-v.org//PHP ultracalendar//EN
VERSION:2.0
METHOD:PUBLISH
BEGIN:VEVENT
DTSTAMP:20260423T031418
CREATED:20180522T175112
UID:1776914058.0.85034300-48821@statistik.d-u-v.org
SUMMARY:San Lorenzo River Trail Run
DESCRIPTION: San Lorenzo River Trail Run\n
  \n
  
DTSTART:20140621T000000
DTEND:00000000T235900
LOCATION:Santa Cruz, CA\, USA
URL:http://www.coastaltrailruns.com/slr_san_lorenzo_river.html
CATEGORIES:Ultramarathon
CONTACT:
CLASS:PUBLIC
PRIORITY:5
TRANSP:OPAQUE
END:VEVENT
END:VCALENDAR
