BEGIN:VCALENDAR
PRODID:-//http://statistik.d-u-v.org//PHP ultracalendar//EN
VERSION:2.0
METHOD:PUBLISH
BEGIN:VEVENT
DTSTAMP:20260419T164516
CREATED:20180426T133727
UID:1776617116.0.00544600-48541@statistik.d-u-v.org
SUMMARY:JOGLE Ultra - Etappe 15
DESCRIPTION: JOGLE Ultra - Etappe 15\n
  Steven Worrallo\n
  info[at]ultrarunningltd.co.uk
DTSTART:20180406T000000
DTEND:00000000T235900
LOCATION:Wellington\, GBR
URL:http://www.ultrarunningltd.co.uk/2xu-jogle.html
CATEGORIES:Ultramarathon
CONTACT:Steven Worrallo
CLASS:PUBLIC
PRIORITY:5
TRANSP:OPAQUE
END:VEVENT
END:VCALENDAR
