BEGIN:VCALENDAR
PRODID:-//http://statistik.d-u-v.org//PHP ultracalendar//EN
VERSION:2.0
METHOD:PUBLISH
BEGIN:VEVENT
DTSTAMP:20260423T014726
CREATED:20180422T111418
UID:1776908846.0.10182100-48437@statistik.d-u-v.org
SUMMARY:Mercian Challenge Race
DESCRIPTION: Mercian Challenge Race\n
  \n
  
DTSTART:20160916T200000
DTEND:00000000T235900
LOCATION:Sedbury\, GBR
URL:https://kingoffasdyke.co.uk
CATEGORIES:Ultramarathon
CONTACT:
CLASS:PUBLIC
PRIORITY:5
TRANSP:OPAQUE
END:VEVENT
END:VCALENDAR
