BEGIN:VCALENDAR
PRODID:-//http://statistik.d-u-v.org//PHP ultracalendar//EN
VERSION:2.0
METHOD:PUBLISH
BEGIN:VEVENT
DTSTAMP:20260419T192104
CREATED:20180416T202720
UID:1776626464.0.48559300-48281@statistik.d-u-v.org
SUMMARY:1. Deutschlandlauf Flensburg - Lörrach
DESCRIPTION: 1. Deutschlandlauf Flensburg - Lörrach\n
  Thomas Dornburg\n
  thomas[at]neckarlauf.com
DTSTART:20210822T000000
DTEND:20210911T235900
LOCATION:Flensburg\, GER
URL:http://www.neckarlauf.com
CATEGORIES:Ultramarathon
CONTACT:Thomas Dornburg
CLASS:PUBLIC
PRIORITY:5
TRANSP:OPAQUE
END:VEVENT
END:VCALENDAR
