BEGIN:VCALENDAR
PRODID:-//http://statistik.d-u-v.org//PHP ultracalendar//EN
VERSION:2.0
METHOD:PUBLISH
BEGIN:VEVENT
DTSTAMP:20260419T230505
CREATED:20180404T153240
UID:1776639905.0.59557200-48110@statistik.d-u-v.org
SUMMARY:Muir Beach Trail Run
DESCRIPTION: Muir Beach Trail Run\n
  \n
  events[at]PCTrailRuns.com
DTSTART:20061216T000000
DTEND:00000000T235900
LOCATION:Muir Beach, CA\, USA
URL:http://www.pctrailruns.com/
CATEGORIES:Ultramarathon
CONTACT:
CLASS:PUBLIC
PRIORITY:5
TRANSP:OPAQUE
END:VEVENT
END:VCALENDAR
