BEGIN:VCALENDAR
PRODID:-//http://statistik.d-u-v.org//PHP ultracalendar//EN
VERSION:2.0
METHOD:PUBLISH
BEGIN:VEVENT
DTSTAMP:20260423T020130
CREATED:20180331T121832
UID:1776909690.0.52460800-48006@statistik.d-u-v.org
SUMMARY:Sri Chinmoy 12 Hour Races Sydney
DESCRIPTION: Sri Chinmoy 12 Hour Races Sydney\n
  Race Director: Prachar Stegemann\n
  sydney[at]srichinmoyraces.org
DTSTART:20180602T210000
DTEND:20180603T090000
LOCATION:Sydney, NSW\, AUS
URL:http://au.srichinmoyraces.org/events/24hour/
CATEGORIES:Ultramarathon
CONTACT:Race Director: Prachar Stegemann
CLASS:PUBLIC
PRIORITY:5
TRANSP:OPAQUE
END:VEVENT
END:VCALENDAR
