BEGIN:VCALENDAR
PRODID:-//http://statistik.d-u-v.org//PHP ultracalendar//EN
VERSION:2.0
METHOD:PUBLISH
BEGIN:VEVENT
DTSTAMP:20260423T050512
CREATED:20090902T143226
UID:1776920712.0.29200800-4780@statistik.d-u-v.org
SUMMARY:Cascade Crest Classic 100 Mile
DESCRIPTION: Cascade Crest Classic 100 Mile\n
  \n
  
DTSTART:19990821T000000
DTEND:19990822T235900
LOCATION:Easton, WA\, USA
URL:http://www.cascadecrest100.com/
CATEGORIES:Ultramarathon
CONTACT:
CLASS:PUBLIC
PRIORITY:5
TRANSP:OPAQUE
END:VEVENT
END:VCALENDAR
