BEGIN:VCALENDAR
PRODID:-//http://statistik.d-u-v.org//PHP ultracalendar//EN
VERSION:2.0
METHOD:PUBLISH
BEGIN:VEVENT
DTSTAMP:20260422T125904
CREATED:20180317T210847
UID:1776862744.0.16637400-47711@statistik.d-u-v.org
SUMMARY:OptiVita 100 Open race
DESCRIPTION: OptiVita 100 Open race\n
  Barnabas Bardos\n
  barnabas.bardos[at]cardiocontrol.hu
DTSTART:20180311T090000
DTEND:00000000T235900
LOCATION:Velence\, HUN
URL:http://ironteam.hu
CATEGORIES:Ultramarathon
CONTACT:Barnabas Bardos
CLASS:PUBLIC
PRIORITY:5
TRANSP:OPAQUE
END:VEVENT
END:VCALENDAR
