BEGIN:VCALENDAR
PRODID:-//http://statistik.d-u-v.org//PHP ultracalendar//EN
VERSION:2.0
METHOD:PUBLISH
BEGIN:VEVENT
DTSTAMP:20260423T163507
CREATED:20180316T170219
UID:1776962107.0.64845600-47695@statistik.d-u-v.org
SUMMARY:Beulah Challenge 6 Hour Race
DESCRIPTION: Beulah Challenge 6 Hour Race\n
  \n
  
DTSTART:20180210T180000
DTEND:00000000T235900
LOCATION:Wildwood, MO\, USA
URL:http://963beulahchallenge.weebly.com/
CATEGORIES:Ultramarathon
CONTACT:
CLASS:PUBLIC
PRIORITY:5
TRANSP:OPAQUE
END:VEVENT
END:VCALENDAR
