BEGIN:VCALENDAR
PRODID:-//http://statistik.d-u-v.org//PHP ultracalendar//EN
VERSION:2.0
METHOD:PUBLISH
BEGIN:VEVENT
DTSTAMP:20260424T201145
CREATED:20180309T150322
UID:1777061505.0.94531700-47601@statistik.d-u-v.org
SUMMARY:Ultra Maraton de los Andes 50 Kms
DESCRIPTION: Ultra Maraton de los Andes 50 Kms\n
  \n
  
DTSTART:20091017T000000
DTEND:00000000T235900
LOCATION:La Dehesa\, CHI
URL:http://www.ultramaratondelosandes.cl/
CATEGORIES:Ultramarathon
CONTACT:
CLASS:PUBLIC
PRIORITY:5
TRANSP:OPAQUE
END:VEVENT
END:VCALENDAR
