BEGIN:VCALENDAR
PRODID:-//http://statistik.d-u-v.org//PHP ultracalendar//EN
VERSION:2.0
METHOD:PUBLISH
BEGIN:VEVENT
DTSTAMP:20260422T211825
CREATED:20180305T193727
UID:1776892705.0.66014400-47473@statistik.d-u-v.org
SUMMARY:LeineTal-Ultra
DESCRIPTION: LeineTal-Ultra\n
  Stefan Opitz\n
  anmeldung[at]leinetal-ultra.de
DTSTART:20180609T070000
DTEND:00000000T235900
LOCATION:Northeim\, GER
URL:http://www.leinetal-ultra.de/
CATEGORIES:Ultramarathon
CONTACT:Stefan Opitz
CLASS:PUBLIC
PRIORITY:5
TRANSP:OPAQUE
END:VEVENT
END:VCALENDAR
