BEGIN:VCALENDAR
PRODID:-//http://statistik.d-u-v.org//PHP ultracalendar//EN
VERSION:2.0
METHOD:PUBLISH
BEGIN:VEVENT
DTSTAMP:20260419T195121
CREATED:20090824T125709
UID:1776628281.0.09769900-4722@statistik.d-u-v.org
SUMMARY:24-Stundenlauf in Reichenbach
DESCRIPTION: 24-Stundenlauf in Reichenbach\n
  Stephan Werner\n
  werner-reichenbach[at]t-online.de
DTSTART:20100703T100000
DTEND:20100704T100000
LOCATION:Reichenbach im Vogtland\, GER
URL:http://www.24-Stundenlauf.de
CATEGORIES:Ultramarathon
CONTACT:Stephan Werner
CLASS:PUBLIC
PRIORITY:5
TRANSP:OPAQUE
END:VEVENT
END:VCALENDAR
