BEGIN:VCALENDAR
PRODID:-//http://statistik.d-u-v.org//PHP ultracalendar//EN
VERSION:2.0
METHOD:PUBLISH
BEGIN:VEVENT
DTSTAMP:20260419T192135
CREATED:20180221T113115
UID:1776626495.0.51159400-47153@statistik.d-u-v.org
SUMMARY:The Coastal Challenge - Expedition Run
DESCRIPTION: The Coastal Challenge - Expedition Run\n
  Tim Holmstrom\n
  info[at]thecoastalchallenge.com
DTSTART:20190210T000000
DTEND:20190216T235900
LOCATION:San Jose\, CRC
URL:http://thecoastalchallengecostarica.com/
CATEGORIES:Ultramarathon
CONTACT:Tim Holmstrom
CLASS:PUBLIC
PRIORITY:5
TRANSP:OPAQUE
END:VEVENT
END:VCALENDAR
