BEGIN:VCALENDAR
PRODID:-//http://statistik.d-u-v.org//PHP ultracalendar//EN
VERSION:2.0
METHOD:PUBLISH
BEGIN:VEVENT
DTSTAMP:20260420T054735
CREATED:20180218T145358
UID:1776664055.0.06258000-47088@statistik.d-u-v.org
SUMMARY:Chojnik Maraton (CHM) 46 Km
DESCRIPTION: Chojnik Maraton (CHM) 46 Km\n
  \n
  biuro[at]chojnikmaraton.pl
DTSTART:20170527T090000
DTEND:00000000T235900
LOCATION:Jelenia Gora, Sobieszow\, POL
URL:http://chojnikmaraton.pl/
CATEGORIES:Ultramarathon
CONTACT:
CLASS:PUBLIC
PRIORITY:5
TRANSP:OPAQUE
END:VEVENT
END:VCALENDAR
