BEGIN:VCALENDAR
PRODID:-//http://statistik.d-u-v.org//PHP ultracalendar//EN
VERSION:2.0
METHOD:PUBLISH
BEGIN:VEVENT
DTSTAMP:20260423T020413
CREATED:20180201T173259
UID:1776909853.0.22375800-46932@statistik.d-u-v.org
SUMMARY:Bridle Trails Winter Running Festival
DESCRIPTION: Bridle Trails Winter Running Festival\n
  \n
  
DTSTART:20180113T000000
DTEND:00000000T235900
LOCATION:Kirkland, WA\, USA
URL:http://nwtrailruns.com/events/bridle-trails-winter-running-festival/
CATEGORIES:Ultramarathon
CONTACT:
CLASS:PUBLIC
PRIORITY:5
TRANSP:OPAQUE
END:VEVENT
END:VCALENDAR
