BEGIN:VCALENDAR
PRODID:-//http://statistik.d-u-v.org//PHP ultracalendar//EN
VERSION:2.0
METHOD:PUBLISH
BEGIN:VEVENT
DTSTAMP:20260424T034811
CREATED:20090823T180402
UID:1777002491.0.51024900-4693@statistik.d-u-v.org
SUMMARY:IAU 100km EC (RUN Winschoten 100 km)
DESCRIPTION: IAU 100km EC (RUN Winschoten 100 km)\n
  \n
  
DTSTART:19990910T000000
DTEND:00000000T235900
LOCATION:Winschoten\, NED
URL:
CATEGORIES:Ultramarathon
CONTACT:
CLASS:PUBLIC
PRIORITY:5
TRANSP:OPAQUE
END:VEVENT
END:VCALENDAR
