BEGIN:VCALENDAR
PRODID:-//http://statistik.d-u-v.org//PHP ultracalendar//EN
VERSION:2.0
METHOD:PUBLISH
BEGIN:VEVENT
DTSTAMP:20260423T145030
CREATED:20180130T152926
UID:1776955830.0.96528700-46915@statistik.d-u-v.org
SUMMARY:Zhenxibao (Cinsbu) 80 km Ultramarathon II
DESCRIPTION: Zhenxibao (Cinsbu) 80 km Ultramarathon II\n
  \n
  know1318[at]gmail.com
DTSTART:20180121T050000
DTEND:00000000T235900
LOCATION:Jianshi Township\, TPE
URL:http://bao-ming.com/eb/www/activity_content.php?activitysn=2333
CATEGORIES:Ultramarathon
CONTACT:
CLASS:PUBLIC
PRIORITY:5
TRANSP:OPAQUE
END:VEVENT
END:VCALENDAR
