BEGIN:VCALENDAR
PRODID:-//http://statistik.d-u-v.org//PHP ultracalendar//EN
VERSION:2.0
METHOD:PUBLISH
BEGIN:VEVENT
DTSTAMP:20260420T012855
CREATED:20180125T150253
UID:1776648535.0.96755000-46880@statistik.d-u-v.org
SUMMARY:Waterway 50
DESCRIPTION: Waterway 50\n
  Ronnie Staton\n
  ronnie[at]hobopace.co.uk
DTSTART:20150221T000000
DTEND:00000000T235900
LOCATION:South Wheatley, Retford\, GBR
URL:http://www.hobopace.co.uk
CATEGORIES:Ultramarathon
CONTACT:Ronnie Staton
CLASS:PUBLIC
PRIORITY:5
TRANSP:OPAQUE
END:VEVENT
END:VCALENDAR
