BEGIN:VCALENDAR
PRODID:-//http://statistik.d-u-v.org//PHP ultracalendar//EN
VERSION:2.0
METHOD:PUBLISH
BEGIN:VEVENT
DTSTAMP:20260419T192113
CREATED:20180119T185953
UID:1776626473.0.68500200-46791@statistik.d-u-v.org
SUMMARY:FANS 6 Hour Run
DESCRIPTION: FANS 6 Hour Run\n
  Paul and Pat Sackett\n
  fans24hour[at]hotmail.com
DTSTART:20180602T080000
DTEND:00000000T235900
LOCATION:Minneapolis, MN\, USA
URL:http://www.fans24hour.org/
CATEGORIES:Ultramarathon
CONTACT:Paul and Pat Sackett
CLASS:PUBLIC
PRIORITY:5
TRANSP:OPAQUE
END:VEVENT
END:VCALENDAR
