BEGIN:VCALENDAR
PRODID:-//http://statistik.d-u-v.org//PHP ultracalendar//EN
VERSION:2.0
METHOD:PUBLISH
BEGIN:VEVENT
DTSTAMP:20260424T204320
CREATED:20180121T061340
UID:1777063400.0.76601700-46771@statistik.d-u-v.org
SUMMARY:Dongfong Ultra Marathon - 104 km
DESCRIPTION: Dongfong Ultra Marathon - 104 km\n
  \n
  
DTSTART:20180630T050000
DTEND:00000000T235900
LOCATION:Shigang District\, TPE
URL:https://www.ibodygo.com.tw/EventTopic.aspx?n=629
CATEGORIES:Ultramarathon
CONTACT:
CLASS:PUBLIC
PRIORITY:5
TRANSP:OPAQUE
END:VEVENT
END:VCALENDAR
