BEGIN:VCALENDAR
PRODID:-//http://statistik.d-u-v.org//PHP ultracalendar//EN
VERSION:2.0
METHOD:PUBLISH
BEGIN:VEVENT
DTSTAMP:20260419T192428
CREATED:20180114T153802
UID:1776626668.0.81480500-46678@statistik.d-u-v.org
SUMMARY:800 Heroes - Jinshui Camp Trail 53Km
DESCRIPTION: 800 Heroes - Jinshui Camp Trail 53Km\n
  \n
  
DTSTART:20190120T063000
DTEND:00000000T235900
LOCATION:Fangliao Township\, TPE
URL:https://www.facebook.com/events/120971642028824/
CATEGORIES:Ultramarathon
CONTACT:
CLASS:PUBLIC
PRIORITY:5
TRANSP:OPAQUE
END:VEVENT
END:VCALENDAR
