BEGIN:VCALENDAR
PRODID:-//http://statistik.d-u-v.org//PHP ultracalendar//EN
VERSION:2.0
METHOD:PUBLISH
BEGIN:VEVENT
DTSTAMP:20260419T195122
CREATED:20090818T210827
UID:1776628282.0.37338100-4666@statistik.d-u-v.org
SUMMARY:6 hour Self Transcendence Run Bratislava
DESCRIPTION: 6 hour Self Transcendence Run Bratislava\n
  \n
  
DTSTART:19980404T000000
DTEND:00000000T235900
LOCATION:Bratislava\, SVK
URL:http://www.srichinmoyraces.org/cs
CATEGORIES:Ultramarathon
CONTACT:
CLASS:PUBLIC
PRIORITY:5
TRANSP:OPAQUE
END:VEVENT
END:VCALENDAR
