BEGIN:VCALENDAR
PRODID:-//http://statistik.d-u-v.org//PHP ultracalendar//EN
VERSION:2.0
METHOD:PUBLISH
BEGIN:VEVENT
DTSTAMP:20260419T233236
CREATED:20171226T143400
UID:1776641556.0.10578300-46229@statistik.d-u-v.org
SUMMARY:MSIG Thailand Action Asia 50
DESCRIPTION: MSIG Thailand Action Asia 50\n
  \n
  maddessm[at]yahoo.com
DTSTART:20171217T060000
DTEND:00000000T235900
LOCATION:Chiang Mai\, THA
URL:http://www.actionasiaevents.com/our-events/past-events/2017/2017-msigthai/overview.html
CATEGORIES:Ultramarathon
CONTACT:
CLASS:PUBLIC
PRIORITY:5
TRANSP:OPAQUE
END:VEVENT
END:VCALENDAR
