BEGIN:VCALENDAR
PRODID:-//http://statistik.d-u-v.org//PHP ultracalendar//EN
VERSION:2.0
METHOD:PUBLISH
BEGIN:VEVENT
DTSTAMP:20260425T175914
CREATED:20171226T191923
UID:1777139954.0.74544100-46201@statistik.d-u-v.org
SUMMARY:Cactus to Cloud Trail Run
DESCRIPTION: Cactus to Cloud Trail Run\n
  \n
  cactustocloud[at]gmail.com
DTSTART:20180512T060000
DTEND:00000000T235900
LOCATION:Cloudcroft, NM\, USA
URL:https://cactustocloud.wordpress.com/
CATEGORIES:Ultramarathon
CONTACT:
CLASS:PUBLIC
PRIORITY:5
TRANSP:OPAQUE
END:VEVENT
END:VCALENDAR
