BEGIN:VCALENDAR
PRODID:-//http://statistik.d-u-v.org//PHP ultracalendar//EN
VERSION:2.0
METHOD:PUBLISH
BEGIN:VEVENT
DTSTAMP:20260423T012323
CREATED:20090812T151253
UID:1776907403.0.86267900-4588@statistik.d-u-v.org
SUMMARY:Copenhagen 6-Day Challenge - 48h Split
DESCRIPTION: Copenhagen 6-Day Challenge - 48h Split\n
  Race Director Jesper Olsen\n
  
DTSTART:20030803T000000
DTEND:20030805T235900
LOCATION:Kopenhagen\, DEN
URL:
CATEGORIES:Ultramarathon
CONTACT:Race Director Jesper Olsen
CLASS:PUBLIC
PRIORITY:5
TRANSP:OPAQUE
END:VEVENT
END:VCALENDAR
