BEGIN:VCALENDAR
PRODID:-//http://statistik.d-u-v.org//PHP ultracalendar//EN
VERSION:2.0
METHOD:PUBLISH
BEGIN:VEVENT
DTSTAMP:20260423T065044
CREATED:20090812T151253
UID:1776927044.0.33646700-4587@statistik.d-u-v.org
SUMMARY:Copenhagen 6-Day Challenge
DESCRIPTION: Copenhagen 6-Day Challenge\n
  Race Director Jesper Olsen\n
  
DTSTART:20030803T000000
DTEND:20030809T235900
LOCATION:Kopenhagen\, DEN
URL:
CATEGORIES:Ultramarathon
CONTACT:Race Director Jesper Olsen
CLASS:PUBLIC
PRIORITY:5
TRANSP:OPAQUE
END:VEVENT
END:VCALENDAR
