BEGIN:VCALENDAR
PRODID:-//http://statistik.d-u-v.org//PHP ultracalendar//EN
VERSION:2.0
METHOD:PUBLISH
BEGIN:VEVENT
DTSTAMP:20260422T071547
CREATED:20171127T235824
UID:1776842147.0.53116900-45408@statistik.d-u-v.org
SUMMARY:Cesis Eco Trail
DESCRIPTION: Cesis Eco Trail\n
  Arnis Dzalbs\n
  dzalbs[at]gmail.com
DTSTART:20180804T050000
DTEND:00000000T235900
LOCATION:Cesis\, LAT
URL:http://www.cet.lv/home/
CATEGORIES:Ultramarathon
CONTACT:Arnis Dzalbs
CLASS:PUBLIC
PRIORITY:5
TRANSP:OPAQUE
END:VEVENT
END:VCALENDAR
