BEGIN:VCALENDAR
PRODID:-//http://statistik.d-u-v.org//PHP ultracalendar//EN
VERSION:2.0
METHOD:PUBLISH
BEGIN:VEVENT
DTSTAMP:20260420T040142
CREATED:20090805T151700
UID:1776657702.0.28747300-4540@statistik.d-u-v.org
SUMMARY:Horror Hill 6 Hour Ultra Trail Race
DESCRIPTION: Horror Hill 6 Hour Ultra Trail Race\n
  \n
  
DTSTART:20021027T000000
DTEND:00000000T235900
LOCATION:Waterloo, ON\, CAN
URL:http://www.horrorhillrun.ca/index.html
CATEGORIES:Ultramarathon
CONTACT:
CLASS:PUBLIC
PRIORITY:5
TRANSP:OPAQUE
END:VEVENT
END:VCALENDAR
