BEGIN:VCALENDAR
PRODID:-//http://statistik.d-u-v.org//PHP ultracalendar//EN
VERSION:2.0
METHOD:PUBLISH
BEGIN:VEVENT
DTSTAMP:20260422T211826
CREATED:20171116T135653
UID:1776892706.0.57039700-45350@statistik.d-u-v.org
SUMMARY:Ultra-trail da Serra de Sao Mamede
DESCRIPTION: Ultra-trail da Serra de Sao Mamede\n
  João Carlos Correia\n
  acportalegre[at]gmail.com
DTSTART:20180519T000000
DTEND:00000000T235900
LOCATION:Assentos - Portalegre\, POR
URL:http://www.utsmportalegre.com/
CATEGORIES:Ultramarathon
CONTACT:João Carlos Correia
CLASS:PUBLIC
PRIORITY:5
TRANSP:OPAQUE
END:VEVENT
END:VCALENDAR
