BEGIN:VCALENDAR
PRODID:-//http://statistik.d-u-v.org//PHP ultracalendar//EN
VERSION:2.0
METHOD:PUBLISH
BEGIN:VEVENT
DTSTAMP:20260424T234206
CREATED:20090801T203628
UID:1777074126.0.21389700-4521@statistik.d-u-v.org
SUMMARY:Supermaraton 100km Kalisia
DESCRIPTION: Supermaraton 100km Kalisia\n
  \n
  
DTSTART:20081025T000000
DTEND:00000000T235900
LOCATION:Stawiszyn k. Kalisza\, POL
URL:http://alco.webpark.pl/supermaraton/
CATEGORIES:Ultramarathon
CONTACT:
CLASS:PUBLIC
PRIORITY:5
TRANSP:OPAQUE
END:VEVENT
END:VCALENDAR
