BEGIN:VCALENDAR
PRODID:-//http://statistik.d-u-v.org//PHP ultracalendar//EN
VERSION:2.0
METHOD:PUBLISH
BEGIN:VEVENT
DTSTAMP:20260423T100328
CREATED:20090801T203628
UID:1776938608.0.55470100-4514@statistik.d-u-v.org
SUMMARY:Ultra en Javalambre
DESCRIPTION: Ultra en Javalambre\n
  \n
  rutometro.tomas[at]gmail.com
DTSTART:20090926T080000
DTEND:20090927T235900
LOCATION:Alfondeguilla, Castello\, ESP
URL:http://www.rutometro.com/105/inscripciones.htm
CATEGORIES:Ultramarathon
CONTACT:
CLASS:PUBLIC
PRIORITY:5
TRANSP:OPAQUE
END:VEVENT
END:VCALENDAR
