BEGIN:VCALENDAR
PRODID:-//http://statistik.d-u-v.org//PHP ultracalendar//EN
VERSION:2.0
METHOD:PUBLISH
BEGIN:VEVENT
DTSTAMP:20260424T175908
CREATED:20171122T155410
UID:1777053548.0.65346900-45104@statistik.d-u-v.org
SUMMARY:Rovaniemi Arctic Winter 300 Km Race
DESCRIPTION: Rovaniemi Arctic Winter 300 Km Race\n
  Àlex Simòn, Race Director\n
  races[at]rovaniemi150.com
DTSTART:20180217T090000
DTEND:20180222T090000
LOCATION:Rovaniemi\, FIN
URL:http://www.rovaniemi150.com/
CATEGORIES:Ultramarathon
CONTACT:Àlex Simòn, Race Director
CLASS:PUBLIC
PRIORITY:5
TRANSP:OPAQUE
END:VEVENT
END:VCALENDAR
