BEGIN:VCALENDAR
PRODID:-//http://statistik.d-u-v.org//PHP ultracalendar//EN
VERSION:2.0
METHOD:PUBLISH
BEGIN:VEVENT
DTSTAMP:20260420T081529
CREATED:20171116T094803
UID:1776672929.0.51908300-45074@statistik.d-u-v.org
SUMMARY:Lavaredo Ultra Trail by UTMB - 120K
DESCRIPTION: Lavaredo Ultra Trail by UTMB - 120K\n
  Cristina Murgia\n
  lavaredo[at]ultratrail.it
DTSTART:20180622T230000
DTEND:20180624T050000
LOCATION:Cortina d'Ampezzo\, ITA
URL:http://www.ultratrail.it/
CATEGORIES:Ultramarathon
CONTACT:Cristina Murgia
CLASS:PUBLIC
PRIORITY:5
TRANSP:OPAQUE
END:VEVENT
END:VCALENDAR
