BEGIN:VCALENDAR
PRODID:-//http://statistik.d-u-v.org//PHP ultracalendar//EN
VERSION:2.0
METHOD:PUBLISH
BEGIN:VEVENT
DTSTAMP:20260419T192238
CREATED:20090731T145721
UID:1776626558.0.31607600-4507@statistik.d-u-v.org
SUMMARY:Yukon Arctic Ultra 100mi
DESCRIPTION: Yukon Arctic Ultra 100mi\n
  Robert Pollhammer\n
  info[at]thegreatoutdoors.de
DTSTART:20110204T000000
DTEND:20110217T235900
LOCATION:Whitehorse, YT\, CAN
URL:http://www.arcticultra.de/
CATEGORIES:Ultramarathon
CONTACT:Robert Pollhammer
CLASS:PUBLIC
PRIORITY:5
TRANSP:OPAQUE
END:VEVENT
END:VCALENDAR
