BEGIN:VCALENDAR
PRODID:-//http://statistik.d-u-v.org//PHP ultracalendar//EN
VERSION:2.0
METHOD:PUBLISH
BEGIN:VEVENT
DTSTAMP:20260422T221424
CREATED:20090728T175639
UID:1776896064.0.38324000-4475@statistik.d-u-v.org
SUMMARY:6h Caboolture Historical Village Dusk to Midnight
DESCRIPTION: 6h Caboolture Historical Village Dusk to Midnight\n
  Geoff Williams\n
  gjcarpet[at]caboolture.net.au
DTSTART:20100206T000000
DTEND:00000000T235900
LOCATION:Caboolture, QLD\, AUS
URL:http://geoffsruns.com/
CATEGORIES:Ultramarathon
CONTACT:Geoff Williams
CLASS:PUBLIC
PRIORITY:5
TRANSP:OPAQUE
END:VEVENT
END:VCALENDAR
