BEGIN:VCALENDAR
PRODID:-//http://statistik.d-u-v.org//PHP ultracalendar//EN
VERSION:2.0
METHOD:PUBLISH
BEGIN:VEVENT
DTSTAMP:20260423T050335
CREATED:20090728T175639
UID:1776920615.0.74619800-4471@statistik.d-u-v.org
SUMMARY:Potawatomi 100 Mile Trail Run
DESCRIPTION: Potawatomi 100 Mile Trail Run\n
  Rich and Eric Skocaj\n
  skitch56[at]comcast.net; skitchattack[at]hotmail.com
DTSTART:20100410T060000
DTEND:20100411T235900
LOCATION:Pekin, IL\, USA
URL:http://www.mcnaughtonparktrailruns.com/
CATEGORIES:Ultramarathon
CONTACT:Rich and Eric Skocaj
CLASS:PUBLIC
PRIORITY:5
TRANSP:OPAQUE
END:VEVENT
END:VCALENDAR
