BEGIN:VCALENDAR
PRODID:-//http://statistik.d-u-v.org//PHP ultracalendar//EN
VERSION:2.0
METHOD:PUBLISH
BEGIN:VEVENT
DTSTAMP:20260421T183158
CREATED:20171105T200948
UID:1776796318.0.70601300-44599@statistik.d-u-v.org
SUMMARY:No Finish Line Paris - 5d
DESCRIPTION: No Finish Line Paris - 5d\n
  \n
  contact[at]nofinishlineparis.com
DTSTART:20180502T100000
DTEND:20180506T200000
LOCATION:Paris\, FRA
URL:http://nofinishlineparis.com/
CATEGORIES:Ultramarathon
CONTACT:
CLASS:PUBLIC
PRIORITY:5
TRANSP:OPAQUE
END:VEVENT
END:VCALENDAR
