BEGIN:VCALENDAR
PRODID:-//http://statistik.d-u-v.org//PHP ultracalendar//EN
VERSION:2.0
METHOD:PUBLISH
BEGIN:VEVENT
DTSTAMP:20260419T192121
CREATED:20171103T163331
UID:1776626481.0.24201700-44491@statistik.d-u-v.org
SUMMARY:Swiss Canyon Trail de l'Absinthe
DESCRIPTION: Swiss Canyon Trail de l'Absinthe\n
  \n
  media[at]swisscanyontrail.com
DTSTART:20180609T050000
DTEND:00000000T235900
LOCATION:Couvet\, SUI
URL:http://swisscanyontrail.com/
CATEGORIES:Ultramarathon
CONTACT:
CLASS:PUBLIC
PRIORITY:5
TRANSP:OPAQUE
END:VEVENT
END:VCALENDAR
