BEGIN:VCALENDAR
PRODID:-//http://statistik.d-u-v.org//PHP ultracalendar//EN
VERSION:2.0
METHOD:PUBLISH
BEGIN:VEVENT
DTSTAMP:20260419T164404
CREATED:20171102T165656
UID:1776617044.0.36856200-44458@statistik.d-u-v.org
SUMMARY:The High Life Ultra 50km
DESCRIPTION: The High Life Ultra 50km\n
  Ryk Downes\n
  
DTSTART:20180707T083000
DTEND:00000000T235900
LOCATION:Otley\, GBR
URL:http://punkpanther.co.uk
CATEGORIES:Ultramarathon
CONTACT:Ryk Downes
CLASS:PUBLIC
PRIORITY:5
TRANSP:OPAQUE
END:VEVENT
END:VCALENDAR
