BEGIN:VCALENDAR
PRODID:-//http://statistik.d-u-v.org//PHP ultracalendar//EN
VERSION:2.0
METHOD:PUBLISH
BEGIN:VEVENT
DTSTAMP:20260419T164629
CREATED:20171016T084429
UID:1776617189.0.09085600-43995@statistik.d-u-v.org
SUMMARY:6 timer ved havet Sæby
DESCRIPTION: 6 timer ved havet Sæby\n
  Tanja Nielsen\n
  tanjasasi[at]hotmail.com
DTSTART:20180602T120000
DTEND:00000000T235900
LOCATION:Saeby\, DEN
URL:http://24timervedhavet.dk
CATEGORIES:Ultramarathon
CONTACT:Tanja Nielsen
CLASS:PUBLIC
PRIORITY:5
TRANSP:OPAQUE
END:VEVENT
END:VCALENDAR
