BEGIN:VCALENDAR
PRODID:-//http://statistik.d-u-v.org//PHP ultracalendar//EN
VERSION:2.0
METHOD:PUBLISH
BEGIN:VEVENT
DTSTAMP:20260424T175900
CREATED:20171007T003423
UID:1777053540.0.70626300-43770@statistik.d-u-v.org
SUMMARY:Wörthersee Trail-Maniak Ultra 62 km
DESCRIPTION: Wörthersee Trail-Maniak Ultra 62 km\n
  \n
  info[at]trail-maniak.com
DTSTART:20170923T080000
DTEND:00000000T235900
LOCATION:Pörtschach\, AUT
URL:http://trailmaniak.be-maniak.com/
CATEGORIES:Ultramarathon
CONTACT:
CLASS:PUBLIC
PRIORITY:5
TRANSP:OPAQUE
END:VEVENT
END:VCALENDAR
