BEGIN:VCALENDAR
PRODID:-//http://statistik.d-u-v.org//PHP ultracalendar//EN
VERSION:2.0
METHOD:PUBLISH
BEGIN:VEVENT
DTSTAMP:20260419T205005
CREATED:20171005T155300
UID:1776631805.0.12426400-43731@statistik.d-u-v.org
SUMMARY:Swamp 100 km Trail Race
DESCRIPTION: Swamp 100 km Trail Race\n
  \n
  dawn[at]runnaturalcoach.com
DTSTART:20180303T050000
DTEND:00000000T235900
LOCATION:Palm Coast, FL\, USA
URL:http://www.swamptrailrace.com/
CATEGORIES:Ultramarathon
CONTACT:
CLASS:PUBLIC
PRIORITY:5
TRANSP:OPAQUE
END:VEVENT
END:VCALENDAR
