BEGIN:VCALENDAR
PRODID:-//http://statistik.d-u-v.org//PHP ultracalendar//EN
VERSION:2.0
METHOD:PUBLISH
BEGIN:VEVENT
DTSTAMP:20260424T150735
CREATED:20090717T165727
UID:1777043255.0.58194600-4372@statistik.d-u-v.org
SUMMARY:Self-Transcendence 24 Hour Race Ottawa - 50mi Split
DESCRIPTION: Self-Transcendence 24 Hour Race Ottawa - 50mi Split\n
  \n
  
DTSTART:20040911T000000
DTEND:20040912T235900
LOCATION:Ottawa, ON\, CAN
URL:http://www.srichinmoyraces.org/ca/Ottawa/ottawa24hr
CATEGORIES:Ultramarathon
CONTACT:
CLASS:PUBLIC
PRIORITY:5
TRANSP:OPAQUE
END:VEVENT
END:VCALENDAR
