BEGIN:VCALENDAR
PRODID:-//http://statistik.d-u-v.org//PHP ultracalendar//EN
VERSION:2.0
METHOD:PUBLISH
BEGIN:VEVENT
DTSTAMP:20260419T164440
CREATED:20171004T150351
UID:1776617080.0.43345500-43679@statistik.d-u-v.org
SUMMARY:Riverlands 100
DESCRIPTION: Riverlands 100\n
  \n
  
DTSTART:20180512T000000
DTEND:20180513T235900
LOCATION:Turner, ME\, USA
URL:http://www.riverlands100.com/
CATEGORIES:Ultramarathon
CONTACT:
CLASS:PUBLIC
PRIORITY:5
TRANSP:OPAQUE
END:VEVENT
END:VCALENDAR
