BEGIN:VCALENDAR
PRODID:-//http://statistik.d-u-v.org//PHP ultracalendar//EN
VERSION:2.0
METHOD:PUBLISH
BEGIN:VEVENT
DTSTAMP:20260423T053940
CREATED:20171004T150351
UID:1776922780.0.56789600-43660@statistik.d-u-v.org
SUMMARY:Run for Regis 50K
DESCRIPTION: Run for Regis 50K\n
  Amanda Nyx\n
  amanda[at]greaterclevelandxc.com
DTSTART:20180120T073000
DTEND:00000000T235900
LOCATION:Peninsula, OH\, USA
URL:http://www.lakehealthrunning.com/run-for-regis
CATEGORIES:Ultramarathon
CONTACT:Amanda Nyx
CLASS:PUBLIC
PRIORITY:5
TRANSP:OPAQUE
END:VEVENT
END:VCALENDAR
