BEGIN:VCALENDAR
PRODID:-//http://statistik.d-u-v.org//PHP ultracalendar//EN
VERSION:2.0
METHOD:PUBLISH
BEGIN:VEVENT
DTSTAMP:20260423T022557
CREATED:20170930T183028
UID:1776911157.0.41277200-43550@statistik.d-u-v.org
SUMMARY:Pacifica 50 Km Trail Run
DESCRIPTION: Pacifica 50 Km Trail Run\n
  Race Director John Brooks\n
  runpctr[at]gmail.com
DTSTART:20170708T000000
DTEND:00000000T235900
LOCATION:Pacifica, CA\, USA
URL:http://www.pctrailruns.com/event.aspx?dtid=12010
CATEGORIES:Ultramarathon
CONTACT:Race Director John Brooks
CLASS:PUBLIC
PRIORITY:5
TRANSP:OPAQUE
END:VEVENT
END:VCALENDAR
